Package: ggcyto Version: 1.37.0 Command: F:\biocbuild\bbs-3.22-bioc\R\bin\R.exe CMD check --no-multiarch --install=check:ggcyto.install-out.txt --library=F:\biocbuild\bbs-3.22-bioc\R\library --no-vignettes --timings ggcyto_1.37.0.tar.gz StartedAt: 2025-08-15 03:42:59 -0400 (Fri, 15 Aug 2025) EndedAt: 2025-08-15 03:46:48 -0400 (Fri, 15 Aug 2025) EllapsedTime: 228.7 seconds RetCode: 0 Status: WARNINGS CheckDir: ggcyto.Rcheck Warnings: 2