Package: ggcyto Version: 1.38.0 Command: /Library/Frameworks/R.framework/Resources/bin/R CMD INSTALL ggcyto StartedAt: 2025-10-30 15:29:23 -0400 (Thu, 30 Oct 2025) EndedAt: 2025-10-30 15:29:49 -0400 (Thu, 30 Oct 2025) EllapsedTime: 26.2 seconds RetCode: 0 Status: OK