Package: ggcyto Version: 1.38.0 Command: rm -rf ggcyto.buildbin-libdir && mkdir ggcyto.buildbin-libdir && /Users/biocbuild/BBS/utils/build-universal.sh ggcyto_1.38.0.tar.gz /Library/Frameworks/R.framework/Resources/bin/R ggcyto.buildbin-libdir StartedAt: 2025-10-31 01:27:07 -0400 (Fri, 31 Oct 2025) EndedAt: 2025-10-31 01:27:39 -0400 (Fri, 31 Oct 2025) EllapsedTime: 32.3 seconds RetCode: 0 Status: OK PackageFile: ggcyto_1.38.0.tgz PackageFileSize: 5.81 MiB