Package: ggcyto Version: 1.37.1 Command: /Library/Frameworks/R.framework/Resources/bin/R CMD build --keep-empty-dirs --no-resave-data ggcyto StartedAt: 2025-10-28 16:32:11 -0400 (Tue, 28 Oct 2025) EndedAt: 2025-10-28 16:32:52 -0400 (Tue, 28 Oct 2025) EllapsedTime: 40.4 seconds RetCode: 0 Status: OK PackageFile: ggcyto_1.37.1.tar.gz PackageFileSize: 24.32 MiB