Package: ggcyto Version: 1.37.1 Maintainer: Mike Jiang MaintainerEmail: mike at ozette.com git_url: https://git.bioconductor.org/packages/ggcyto git_branch: devel git_last_commit: 81b7cb6 git_last_commit_date: 2025-09-14 20:19:00 -0400 (Sun, 14 Sep 2025)