Package: ggbio Version: 1.57.1 Command: /home/biocbuild/R/R/bin/R CMD INSTALL ggbio StartedAt: 2025-10-16 22:05:59 -0000 (Thu, 16 Oct 2025) EndedAt: 2025-10-16 22:07:14 -0000 (Thu, 16 Oct 2025) EllapsedTime: 74.8 seconds RetCode: 0 Status: OK