Package: ggbio Version: 1.57.1 Command: /home/biocbuild/R/R/bin/R CMD check --install=check:ggbio.install-out.txt --library=/home/biocbuild/R/R/site-library --no-vignettes --timings ggbio_1.57.1.tar.gz StartedAt: 2025-10-14 08:47:03 -0000 (Tue, 14 Oct 2025) EndedAt: 2025-10-14 09:02:18 -0000 (Tue, 14 Oct 2025) EllapsedTime: 914.7 seconds RetCode: 0 Status: WARNINGS CheckDir: ggbio.Rcheck Warnings: 2