Package: ggbio Version: 1.57.1 Command: /home/biocbuild/R/R/bin/R CMD build --keep-empty-dirs --no-resave-data ggbio StartedAt: 2025-10-14 00:33:24 -0000 (Tue, 14 Oct 2025) EndedAt: 2025-10-14 00:41:31 -0000 (Tue, 14 Oct 2025) EllapsedTime: 487.1 seconds RetCode: 0 Status: OK PackageFile: ggbio_1.57.1.tar.gz PackageFileSize: 3.325 MiB