Package: ggbio Version: 1.57.1 Command: /Library/Frameworks/R.framework/Resources/bin/R CMD check --install=check:ggbio.install-out.txt --library=/Library/Frameworks/R.framework/Resources/library --no-vignettes --timings ggbio_1.57.1.tar.gz StartedAt: 2025-10-20 19:59:26 -0400 (Mon, 20 Oct 2025) EndedAt: 2025-10-20 20:03:41 -0400 (Mon, 20 Oct 2025) EllapsedTime: 255.2 seconds RetCode: 0 Status: WARNINGS CheckDir: ggbio.Rcheck Warnings: 2