Package: geyser Version: 1.1.0 Command: /home/biocbuild/R/R/bin/R CMD check --install=check:geyser.install-out.txt --library=/home/biocbuild/R/R/site-library --no-vignettes --timings geyser_1.1.0.tar.gz StartedAt: 2025-10-17 09:33:23 -0000 (Fri, 17 Oct 2025) EndedAt: 2025-10-17 09:38:57 -0000 (Fri, 17 Oct 2025) EllapsedTime: 334.2 seconds RetCode: 0 Status: OK CheckDir: geyser.Rcheck Warnings: 0