Package: geyser Version: 1.1.0 Command: rm -rf geyser.buildbin-libdir && mkdir geyser.buildbin-libdir && F:\biocbuild\bbs-3.22-bioc\R\bin\R.exe CMD INSTALL --build --library=geyser.buildbin-libdir geyser_1.1.0.tar.gz StartedAt: 2025-08-15 10:22:58 -0400 (Fri, 15 Aug 2025) EndedAt: 2025-08-15 10:23:30 -0400 (Fri, 15 Aug 2025) EllapsedTime: 32.1 seconds RetCode: 0 Status: OK PackageFile: geyser_1.1.0.zip PackageFileSize: 1.326 MiB