Package: geyser Version: 1.1.0 Command: /Library/Frameworks/R.framework/Resources/bin/R CMD INSTALL geyser StartedAt: 2025-10-19 15:20:46 -0400 (Sun, 19 Oct 2025) EndedAt: 2025-10-19 15:21:22 -0400 (Sun, 19 Oct 2025) EllapsedTime: 35.8 seconds RetCode: 0 Status: OK