Package: geyser Version: 1.1.0 Command: /Library/Frameworks/R.framework/Resources/bin/R CMD INSTALL geyser StartedAt: 2025-10-17 15:11:26 -0400 (Fri, 17 Oct 2025) EndedAt: 2025-10-17 15:11:37 -0400 (Fri, 17 Oct 2025) EllapsedTime: 10.8 seconds RetCode: 0 Status: OK