Package: geva Version: 1.18.0 Command: /home/biocbuild/R/R/bin/R CMD INSTALL geva StartedAt: 2025-11-20 21:51:56 -0000 (Thu, 20 Nov 2025) EndedAt: 2025-11-20 21:53:04 -0000 (Thu, 20 Nov 2025) EllapsedTime: 67.5 seconds RetCode: 0 Status: OK