Package: geva Version: 1.18.0 Command: /Library/Frameworks/R.framework/Resources/bin/R CMD INSTALL geva StartedAt: 2025-11-10 15:03:57 -0500 (Mon, 10 Nov 2025) EndedAt: 2025-11-10 15:04:14 -0500 (Mon, 10 Nov 2025) EllapsedTime: 17.7 seconds RetCode: 0 Status: OK