Package: geva Version: 1.18.0 Command: /Library/Frameworks/R.framework/Resources/bin/R CMD check --install=check:geva.install-out.txt --library=/Library/Frameworks/R.framework/Resources/library --no-vignettes --timings geva_1.18.0.tar.gz StartedAt: 2025-11-10 20:17:26 -0500 (Mon, 10 Nov 2025) EndedAt: 2025-11-10 20:18:32 -0500 (Mon, 10 Nov 2025) EllapsedTime: 66.7 seconds RetCode: 0 Status: OK CheckDir: geva.Rcheck Warnings: 0