Package: geva Version: 1.18.0 Command: rm -rf geva.buildbin-libdir && mkdir geva.buildbin-libdir && /Users/biocbuild/BBS/utils/build-universal.sh geva_1.18.0.tar.gz /Library/Frameworks/R.framework/Resources/bin/R geva.buildbin-libdir StartedAt: 2025-11-10 23:21:49 -0500 (Mon, 10 Nov 2025) EndedAt: 2025-11-10 23:21:52 -0500 (Mon, 10 Nov 2025) EllapsedTime: 3.1 seconds RetCode: 0 Status: OK PackageFile: geva_1.18.0.tgz PackageFileSize: 2.713 MiB