Package: getDEE2 Version: 1.19.3 Command: /home/biocbuild/R/R/bin/R CMD INSTALL getDEE2 StartedAt: 2025-10-20 20:31:02 -0000 (Mon, 20 Oct 2025) EndedAt: 2025-10-20 20:31:28 -0000 (Mon, 20 Oct 2025) EllapsedTime: 25.5 seconds RetCode: 0 Status: OK