Package: getDEE2 Version: 1.19.3 Command: /home/biocbuild/R/R/bin/R CMD check --install=check:getDEE2.install-out.txt --library=/home/biocbuild/R/R/site-library --no-vignettes --timings getDEE2_1.19.3.tar.gz StartedAt: 2025-10-17 09:31:51 -0000 (Fri, 17 Oct 2025) EndedAt: 2025-10-17 09:38:22 -0000 (Fri, 17 Oct 2025) EllapsedTime: 391.2 seconds RetCode: 0 Status: OK CheckDir: getDEE2.Rcheck Warnings: 0