Package: getDEE2 Version: 1.19.3 Command: /home/biocbuild/R/R/bin/R CMD build --keep-empty-dirs --no-resave-data getDEE2 StartedAt: 2025-10-21 00:04:07 -0000 (Tue, 21 Oct 2025) EndedAt: 2025-10-21 00:15:40 -0000 (Tue, 21 Oct 2025) EllapsedTime: 692.2 seconds RetCode: 0 Status: OK PackageFile: getDEE2_1.19.3.tar.gz PackageFileSize: 24.44 KiB