Package: getDEE2 Version: 1.19.3 Command: F:\biocbuild\bbs-3.22-bioc\R\bin\R.exe CMD check --no-multiarch --install=check:getDEE2.install-out.txt --library=F:\biocbuild\bbs-3.22-bioc\R\library --no-vignettes --timings getDEE2_1.19.3.tar.gz StartedAt: 2025-08-15 03:41:54 -0400 (Fri, 15 Aug 2025) EndedAt: 2025-08-15 03:46:41 -0400 (Fri, 15 Aug 2025) EllapsedTime: 287.3 seconds RetCode: 0 Status: OK CheckDir: getDEE2.Rcheck Warnings: 0