Package: getDEE2 Version: 1.19.3 Command: /Library/Frameworks/R.framework/Resources/bin/R CMD INSTALL getDEE2 StartedAt: 2025-10-20 15:19:24 -0400 (Mon, 20 Oct 2025) EndedAt: 2025-10-20 15:19:51 -0400 (Mon, 20 Oct 2025) EllapsedTime: 27.0 seconds RetCode: 0 Status: OK