############################################################################## ############################################################################## ### ### Running command: ### ### /Library/Frameworks/R.framework/Resources/bin/R CMD check --install=check:getDEE2.install-out.txt --library=/Library/Frameworks/R.framework/Resources/library --no-vignettes --timings getDEE2_1.19.3.tar.gz ### ############################################################################## ############################################################################## * using log directory ‘/Users/biocbuild/bbs-3.22-bioc/meat/getDEE2.Rcheck’ * using R version 4.5.1 Patched (2025-09-10 r88807) * using platform: x86_64-apple-darwin20 * R was compiled by Apple clang version 14.0.0 (clang-1400.0.29.202) GNU Fortran (GCC) 14.2.0 * running under: macOS Monterey 12.7.6 * using session charset: UTF-8 * using option ‘--no-vignettes’ * checking for file ‘getDEE2/DESCRIPTION’ ... OK * this is package ‘getDEE2’ version ‘1.19.3’ * package encoding: UTF-8 * checking package namespace information ... OK * checking package dependencies ... OK * checking if this is a source package ... OK * checking if there is a namespace ... OK * checking for hidden files and directories ... OK * checking for portable file names ... OK * checking for sufficient/correct file permissions ... OK * checking whether package ‘getDEE2’ can be installed ... OK * checking installed package size ... OK * checking package directory ... OK * checking ‘build’ directory ... OK * checking DESCRIPTION meta-information ... OK * checking top-level files ... OK * checking for left-over files ... OK * checking index information ... OK * checking package subdirectories ... OK * checking code files for non-ASCII characters ... OK * checking R files for syntax errors ... OK * checking whether the package can be loaded ... OK * checking whether the package can be loaded with stated dependencies ... OK * checking whether the package can be unloaded cleanly ... OK * checking whether the namespace can be loaded with stated dependencies ... OK * checking whether the namespace can be unloaded cleanly ... OK * checking dependencies in R code ... OK * checking S3 generic/method consistency ... OK * checking replacement functions ... OK * checking foreign function calls ... OK * checking R code for possible problems ... NOTE srx_agg: no visible global function definition for ‘is’ Undefined global functions or variables: is Consider adding importFrom("methods", "is") to your NAMESPACE file (and ensure that your DESCRIPTION Imports field contains 'methods'). * checking Rd files ... OK * checking Rd metadata ... OK * checking Rd cross-references ... OK * checking for missing documentation entries ... OK * checking for code/documentation mismatches ... OK * checking Rd \usage sections ... OK * checking Rd contents ... OK * checking for unstated dependencies in examples ... OK * checking files in ‘vignettes’ ... OK * checking examples ... OK Examples with CPU (user + system) or elapsed time > 5s user system elapsed getDEE2_bundle 2.324 0.195 19.318 getDEE2 1.446 0.158 36.820 list_bundles 1.024 0.031 8.130 Tx2Gene 0.528 0.087 22.401 query_bundles 0.490 0.029 6.778 loadGeneInfo 0.237 0.063 13.780 se 0.215 0.052 13.345 loadTxInfo 0.193 0.065 15.328 loadTxCounts 0.200 0.057 17.463 loadQcMx 0.196 0.051 15.020 loadSummaryMeta 0.187 0.060 17.137 srx_agg 0.183 0.060 19.451 loadGeneCounts 0.186 0.056 15.059 loadFullMeta 0.187 0.048 17.612 getDEE2Metadata 0.121 0.028 15.214 queryDEE2 0.109 0.028 11.175 * checking for unstated dependencies in ‘tests’ ... OK * checking tests ... Running ‘test-getDEE2.R’ OK * checking for unstated dependencies in vignettes ... OK * checking package vignettes ... OK * checking running R code from vignettes ... SKIPPED * checking re-building of vignette outputs ... SKIPPED * checking PDF version of manual ... OK * DONE Status: 1 NOTE See ‘/Users/biocbuild/bbs-3.22-bioc/meat/getDEE2.Rcheck/00check.log’ for details.