Package: getDEE2 Version: 1.19.3 Command: /Library/Frameworks/R.framework/Resources/bin/R CMD build --keep-empty-dirs --no-resave-data getDEE2 StartedAt: 2025-10-20 17:21:00 -0400 (Mon, 20 Oct 2025) EndedAt: 2025-10-20 17:23:06 -0400 (Mon, 20 Oct 2025) EllapsedTime: 125.9 seconds RetCode: 0 Status: OK PackageFile: getDEE2_1.19.3.tar.gz PackageFileSize: 23.47 KiB