Package: getDEE2 Version: 1.19.3 Command: rm -rf getDEE2.buildbin-libdir && mkdir getDEE2.buildbin-libdir && /Users/biocbuild/BBS/utils/build-universal.sh getDEE2_1.19.3.tar.gz /Library/Frameworks/R.framework/Resources/bin/R getDEE2.buildbin-libdir StartedAt: 2025-10-21 03:14:05 -0400 (Tue, 21 Oct 2025) EndedAt: 2025-10-21 03:14:35 -0400 (Tue, 21 Oct 2025) EllapsedTime: 29.9 seconds RetCode: 0 Status: OK PackageFile: getDEE2_1.19.3.tgz PackageFileSize: 74.76 KiB