Package: geomeTriD Version: 1.3.16 Command: F:\biocbuild\bbs-3.22-bioc\R\bin\R.exe CMD check --no-multiarch --install=check:geomeTriD.install-out.txt --library=F:\biocbuild\bbs-3.22-bioc\R\library --no-vignettes --timings geomeTriD_1.3.16.tar.gz StartedAt: 2025-08-15 03:41:26 -0400 (Fri, 15 Aug 2025) EndedAt: 2025-08-15 03:50:04 -0400 (Fri, 15 Aug 2025) EllapsedTime: 518.0 seconds RetCode: 0 Status: OK CheckDir: geomeTriD.Rcheck Warnings: 0