Package: geomeTriD Version: 1.3.16 Command: chmod a+r geomeTriD -R && F:\biocbuild\bbs-3.22-bioc\R\bin\R.exe CMD build --keep-empty-dirs --no-resave-data geomeTriD StartedAt: 2025-08-14 20:29:11 -0400 (Thu, 14 Aug 2025) EndedAt: 2025-08-14 20:31:24 -0400 (Thu, 14 Aug 2025) EllapsedTime: 132.4 seconds RetCode: 0 Status: OK PackageFile: geomeTriD_1.3.16.tar.gz PackageFileSize: 944.8 KiB