Package: geomeTriD Version: 1.3.16 Command: rm -rf geomeTriD.buildbin-libdir && mkdir geomeTriD.buildbin-libdir && F:\biocbuild\bbs-3.22-bioc\R\bin\R.exe CMD INSTALL --build --library=geomeTriD.buildbin-libdir geomeTriD_1.3.16.tar.gz StartedAt: 2025-08-15 10:22:33 -0400 (Fri, 15 Aug 2025) EndedAt: 2025-08-15 10:24:06 -0400 (Fri, 15 Aug 2025) EllapsedTime: 92.9 seconds RetCode: 0 Status: OK PackageFile: geomeTriD_1.3.16.zip PackageFileSize: 1.465 MiB