Package: genomicInstability Version: 1.15.0 Command: /home/biocbuild/R/R/bin/R CMD INSTALL genomicInstability StartedAt: 2025-09-29 21:04:25 -0000 (Mon, 29 Sep 2025) EndedAt: 2025-09-29 21:04:59 -0000 (Mon, 29 Sep 2025) EllapsedTime: 33.1 seconds RetCode: 0 Status: OK