Package: genomicInstability Version: 1.15.0 Command: /home/biocbuild/R/R/bin/R CMD build --keep-empty-dirs --no-resave-data genomicInstability StartedAt: 2025-09-30 00:11:12 -0000 (Tue, 30 Sep 2025) EndedAt: 2025-09-30 00:13:03 -0000 (Tue, 30 Sep 2025) EllapsedTime: 111.0 seconds RetCode: 0 Status: OK PackageFile: genomicInstability_1.15.0.tar.gz PackageFileSize: 1.213 MiB