Package: genomeIntervals Version: 1.66.0 Command: /Library/Frameworks/R.framework/Resources/bin/R CMD INSTALL genomeIntervals StartedAt: 2025-11-02 15:25:17 -0500 (Sun, 02 Nov 2025) EndedAt: 2025-11-02 15:25:35 -0500 (Sun, 02 Nov 2025) EllapsedTime: 18.5 seconds RetCode: 0 Status: OK