Package: genomeIntervals Version: 1.66.0 Command: /Library/Frameworks/R.framework/Resources/bin/R CMD build --keep-empty-dirs --no-resave-data genomeIntervals StartedAt: 2025-11-02 17:11:41 -0500 (Sun, 02 Nov 2025) EndedAt: 2025-11-02 17:12:07 -0500 (Sun, 02 Nov 2025) EllapsedTime: 26.2 seconds RetCode: 0 Status: OK PackageFile: genomeIntervals_1.66.0.tar.gz PackageFileSize: 255.1 KiB