Package: genomeIntervals Version: 1.66.0 Command: rm -rf genomeIntervals.buildbin-libdir && mkdir genomeIntervals.buildbin-libdir && /Users/biocbuild/BBS/utils/build-universal.sh genomeIntervals_1.66.0.tar.gz /Library/Frameworks/R.framework/Resources/bin/R genomeIntervals.buildbin-libdir StartedAt: 2025-11-01 01:35:51 -0400 (Sat, 01 Nov 2025) EndedAt: 2025-11-01 01:36:13 -0400 (Sat, 01 Nov 2025) EllapsedTime: 22.0 seconds RetCode: 0 Status: OK PackageFile: genomeIntervals_1.66.0.tgz PackageFileSize: 674.7 KiB