Package: genomeIntervals Version: 1.66.0 Command: /Library/Frameworks/R.framework/Resources/bin/R CMD check --install=check:genomeIntervals.install-out.txt --library=/Library/Frameworks/R.framework/Resources/library --no-vignettes --timings genomeIntervals_1.66.0.tar.gz StartedAt: 2025-11-06 19:55:57 -0500 (Thu, 06 Nov 2025) EndedAt: 2025-11-06 19:56:32 -0500 (Thu, 06 Nov 2025) EllapsedTime: 35.4 seconds RetCode: 0 Status: WARNINGS CheckDir: genomeIntervals.Rcheck Warnings: 1