Package: geneplotter Version: 1.87.0 Command: /home/biocbuild/R/R/bin/R CMD INSTALL geneplotter StartedAt: 2025-10-23 20:48:04 -0000 (Thu, 23 Oct 2025) EndedAt: 2025-10-23 20:48:23 -0000 (Thu, 23 Oct 2025) EllapsedTime: 18.7 seconds RetCode: 0 Status: OK