Package: geneplotter Version: 1.87.0 Command: /home/biocbuild/R/R/bin/R CMD build --keep-empty-dirs --no-resave-data geneplotter StartedAt: 2025-10-20 23:57:21 -0000 (Mon, 20 Oct 2025) EndedAt: 2025-10-20 23:57:51 -0000 (Mon, 20 Oct 2025) EllapsedTime: 30.0 seconds RetCode: 0 Status: OK PackageFile: geneplotter_1.87.0.tar.gz PackageFileSize: 1.596 MiB