Package: geneplotter Version: 1.87.0 Command: /home/biocbuild/bbs-3.22-bioc/R/bin/R CMD build --keep-empty-dirs --no-resave-data --md5 geneplotter StartedAt: 2025-10-20 17:42:47 -0400 (Mon, 20 Oct 2025) EndedAt: 2025-10-20 17:43:11 -0400 (Mon, 20 Oct 2025) EllapsedTime: 24.0 seconds RetCode: 0 Status: OK PackageFile: geneplotter_1.87.0.tar.gz PackageFileSize: 1.637 MiB