Package: geneplotter Version: 1.87.0 Command: /Library/Frameworks/R.framework/Resources/bin/R CMD INSTALL geneplotter StartedAt: 2025-10-28 15:26:42 -0400 (Tue, 28 Oct 2025) EndedAt: 2025-10-28 15:27:01 -0400 (Tue, 28 Oct 2025) EllapsedTime: 19.4 seconds RetCode: 0 Status: OK