Package: geneplast Version: 1.36.0 Command: /Library/Frameworks/R.framework/Resources/bin/R CMD build --keep-empty-dirs --no-resave-data geneplast StartedAt: 2025-10-31 16:32:55 -0400 (Fri, 31 Oct 2025) EndedAt: 2025-10-31 16:33:11 -0400 (Fri, 31 Oct 2025) EllapsedTime: 16.2 seconds RetCode: 0 Status: OK PackageFile: geneplast_1.36.0.tar.gz PackageFileSize: 7.074 MiB