Package: genefu Version: 2.42.0 Command: /Library/Frameworks/R.framework/Resources/bin/R CMD check --install=check:genefu.install-out.txt --library=/Library/Frameworks/R.framework/Resources/library --no-vignettes --timings genefu_2.42.0.tar.gz StartedAt: 2025-11-03 21:24:34 -0500 (Mon, 03 Nov 2025) EndedAt: 2025-11-03 21:27:14 -0500 (Mon, 03 Nov 2025) EllapsedTime: 159.8 seconds RetCode: 0 Status: WARNINGS CheckDir: genefu.Rcheck Warnings: 1