Package: genefu Version: 2.42.0 Command: /Library/Frameworks/R.framework/Resources/bin/R CMD build --keep-empty-dirs --no-resave-data genefu StartedAt: 2025-11-03 17:07:19 -0500 (Mon, 03 Nov 2025) EndedAt: 2025-11-03 17:08:46 -0500 (Mon, 03 Nov 2025) EllapsedTime: 87.0 seconds RetCode: 0 Status: OK PackageFile: genefu_2.42.0.tar.gz PackageFileSize: 4.891 MiB