Package: geneXtendeR Version: 1.35.0 Command: /home/biocbuild/R/R/bin/R CMD INSTALL geneXtendeR StartedAt: 2025-10-23 21:09:53 -0000 (Thu, 23 Oct 2025) EndedAt: 2025-10-23 21:10:53 -0000 (Thu, 23 Oct 2025) EllapsedTime: 60.8 seconds RetCode: 0 Status: OK