Package: geneXtendeR Version: 1.35.0 Command: /home/biocbuild/R/R/bin/R CMD build --keep-empty-dirs --no-resave-data geneXtendeR StartedAt: 2025-10-20 23:58:30 -0000 (Mon, 20 Oct 2025) EndedAt: 2025-10-20 23:58:35 -0000 (Mon, 20 Oct 2025) EllapsedTime: 5.0 seconds RetCode: 0 Status: OK PackageFile: geneXtendeR_1.35.0.tar.gz PackageFileSize: 11.74 MiB