Package: geneRxCluster Version: 1.45.0 Command: /home/biocbuild/R/R/bin/R CMD INSTALL geneRxCluster StartedAt: 2025-10-16 21:27:42 -0000 (Thu, 16 Oct 2025) EndedAt: 2025-10-16 21:27:55 -0000 (Thu, 16 Oct 2025) EllapsedTime: 12.9 seconds RetCode: 0 Status: OK