Package: geneRxCluster Version: 1.45.0 Command: /home/biocbuild/R/R/bin/R CMD check --install=check:geneRxCluster.install-out.txt --library=/home/biocbuild/R/R/site-library --no-vignettes --timings geneRxCluster_1.45.0.tar.gz StartedAt: 2025-10-17 09:21:04 -0000 (Fri, 17 Oct 2025) EndedAt: 2025-10-17 09:22:36 -0000 (Fri, 17 Oct 2025) EllapsedTime: 92.1 seconds RetCode: 0 Status: OK CheckDir: geneRxCluster.Rcheck Warnings: 0