Package: geneRxCluster Version: 1.45.0 Command: /home/biocbuild/R/R/bin/R CMD build --keep-empty-dirs --no-resave-data geneRxCluster StartedAt: 2025-10-20 23:57:57 -0000 (Mon, 20 Oct 2025) EndedAt: 2025-10-20 23:58:48 -0000 (Mon, 20 Oct 2025) EllapsedTime: 51.0 seconds RetCode: 0 Status: OK PackageFile: geneRxCluster_1.45.0.tar.gz PackageFileSize: 273.1 KiB