Package: geneRxCluster Version: 1.45.0 Command: /Library/Frameworks/R.framework/Resources/bin/R CMD INSTALL geneRxCluster StartedAt: 2025-10-19 15:10:30 -0400 (Sun, 19 Oct 2025) EndedAt: 2025-10-19 15:10:35 -0400 (Sun, 19 Oct 2025) EllapsedTime: 4.4 seconds RetCode: 0 Status: OK