Package: geneRxCluster Version: 1.45.0 Command: /Library/Frameworks/R.framework/Resources/bin/R CMD build --keep-empty-dirs --no-resave-data geneRxCluster StartedAt: 2025-10-20 16:28:06 -0400 (Mon, 20 Oct 2025) EndedAt: 2025-10-20 16:28:25 -0400 (Mon, 20 Oct 2025) EllapsedTime: 18.2 seconds RetCode: 0 Status: OK PackageFile: geneRxCluster_1.45.0.tar.gz PackageFileSize: 280.5 KiB