Package: geneRxCluster Version: 1.45.0 Command: rm -rf geneRxCluster.buildbin-libdir && mkdir geneRxCluster.buildbin-libdir && /Users/biocbuild/BBS/utils/build-universal.sh geneRxCluster_1.45.0.tar.gz /Library/Frameworks/R.framework/Resources/bin/R geneRxCluster.buildbin-libdir StartedAt: 2025-10-19 23:00:45 -0400 (Sun, 19 Oct 2025) EndedAt: 2025-10-19 23:00:50 -0400 (Sun, 19 Oct 2025) EllapsedTime: 5.1 seconds RetCode: 0 Status: OK PackageFile: geneRxCluster_1.45.0.tgz PackageFileSize: 338.9 KiB