Package: geneRecommender Version: 1.81.0 Command: /home/biocbuild/R/R/bin/R CMD INSTALL geneRecommender StartedAt: 2025-10-16 21:24:04 -0000 (Thu, 16 Oct 2025) EndedAt: 2025-10-16 21:24:13 -0000 (Thu, 16 Oct 2025) EllapsedTime: 8.7 seconds RetCode: 0 Status: OK